BEGIN:VCALENDAR
VERSION:2.0
PRODID:-//https://www.barnfield.ac.uk///NONSGML kigkonsult.se iCalcreator 2.10.15//
METHOD:PUBLISH
BEGIN:VEVENT
UID:20260422T150153UTC-3167p8udkB@https://www.barnfield.ac.uk/
DTSTAMP:20260422T150153Z
DESCRIPTION:Don't miss our&nbsp\;final&nbsp\;open day of the year\, this is
  the last chance for Year 11 students to start exploring options for Septe
 mber 2026.\n✨ Booking is required – reserve your place today! ✨\nThere's n
 o better way to get an insight into life at Barnfield College than at our 
 Open Days.\nJoin us this June to see why Barnfield College is the place to
  follow your passions. To turn ambition into action. To think big.&nbsp\;
 \n📍 Barnfield College – Saturday 13 June\, 9:30am–12:30pm\nThis is the per
 fect chance to explore the campuses\, speak to course tutors and meet curr
 ent students.\n✅ Don’t forget: you’ll need to book to attend – it only tak
 es a minute.\n&nbsp\;BOOK NOW https://www.barnfield.ac.uk/whats-on/events/
 event/98-summer-open-day-2026
DTSTART:20260613T083000Z
DTEND:20260613T113000Z
LOCATION:Barnfield College (Barnfield College\, Barnfield Ave\, Luton LU2 7
 BF\, UK)
SUMMARY:Summer Open Day 2026
URL:https://www.barnfield.ac.uk/whats-on/events/event/98-summer-open-day-20
 26
END:VEVENT
END:VCALENDAR
