BEGIN:VCALENDAR
VERSION:2.0
PRODID:-//https://www.barnfield.ac.uk///NONSGML kigkonsult.se iCalcreator 2.10.15//
METHOD:PUBLISH
BEGIN:VEVENT
UID:20260420T023138UTC-5510SjZmIx@https://www.barnfield.ac.uk/
DTSTAMP:20260420T023138Z
DESCRIPTION:Discover life as a Professional Cookery student at a Taster Ses
 sion.&nbsp\;\nThere is no better way to gain an insight into your chosen c
 ourse than at a Taster Session\, you’ll get hands on in an interactive ses
 sion to get a taste of what it’s like to study with us.\nTaster Sessions a
 re available for offer holders. If you are holding an offer for more than 
 one course\, we’d suggest you book for the course that is your current top
  choice. If you’d like to attend more than one session\, you can do so if 
 the sessions are running at different times.\nWhat to expect:\n\nInteracti
 ve ‘Have a go’ activity\nMeet course tutors\nMeet your new classmates\nGet
  questions answered\n\nLevel 1 Professional Cookery\nDuring the Level 1 Pr
 ofessional Cookery Taster Session\, you will have the opportunity to disco
 ver our restaurant and many other cooking facilities\, as well as taking p
 art in cooking exercises\, baking practices and getting to know pastry.\nW
 hat to wear\nYou are required to wear sensible shoes and have your&nbsp\;h
 air tied back.\nOn the Day\nOn arrival\, you’ll be welcomed by our Admissi
 ons team to sign in. Please arrive at least 15 minutes before the start of
  your taster session. You can find directions for getting to college here.
  Taster sessions last 2 hours.\nBook Now\nClick the button below to comple
 te our short booking form to book your place. Make sure to select your cho
 sen course and time in the ticket box. You’ll then receive a confirmation 
 of your booking by email.\nBOOK NOW\nTaster sessions are optional to atten
 d\, but we encourage you to do so as it’s a fantastic way to find out more
  about your course and prepare for joining us in September. We hope to see
  you there! https://www.barnfield.ac.uk/whats-on/events/event/83-professio
 nal-cookery-summer-taster-sessions-2025
DTSTART;VALUE=DATE:20250820
LOCATION:Barnfield College - Main Building  (Barnfield\, Luton LU2 7BU\, UK
 )
SUMMARY:Professional Cookery Summer Taster Sessions 2025
URL:https://www.barnfield.ac.uk/whats-on/events/event/83-professional-cooke
 ry-summer-taster-sessions-2025
END:VEVENT
END:VCALENDAR
