BEGIN:VCALENDAR
VERSION:2.0
PRODID:-//https://www.barnfield.ac.uk///NONSGML kigkonsult.se iCalcreator 2.10.15//
METHOD:PUBLISH
BEGIN:VEVENT
UID:20260420T023252UTC-1075seAVSH@https://www.barnfield.ac.uk/
DTSTAMP:20260420T023252Z
DESCRIPTION:Discover life as an A Levels student at a Taster Session.\nTher
 e is no better way to gain an insight into your chosen course than at a Ta
 ster Session\, you’ll get hands on in an interactive session to get a tast
 e of what it’s like to study with us.\nTaster Sessions are available for o
 ffer holders. If you are holding an offer for more than one course\, we’d 
 suggest you book for the course that is your current top choice. If you’d 
 like to attend more than one session\, you can do so if the sessions are r
 unning at different times.\nWhat to expect:\n\nInteractive ‘Have a go’ act
 ivity\nMeet course tutors\nMeet your new classmates\nGet questions answere
 d\n\nA Levels\nYou will have the opportunity&nbsp\;to tour and explore the
  campus and classrooms you'll be working in. You'll get the opportunity to
  take part in a range of team building activities with your soon-to-be cla
 ssmates.\nOn the Day\nOn arrival\, you’ll be welcomed by our Admissions te
 am to sign in. Please arrive at least 15 minutes before the start of your 
 taster session. You can find directions for getting to college&nbsp\;here.
 &nbsp\;Taster sessions last 2 hours.\nBook Now\nClick the button below to 
 complete our short booking form to book your place. Make sure to select yo
 ur chosen course and time in the ticket box. You’ll then receive a confirm
 ation of your booking by email.\nBOOK NOW\nTaster sessions are optional to
  attend\, but we encourage you to do so as it’s a fantastic way to find ou
 t more about your course and prepare for joining us in September. We hope 
 to see you there! https://www.barnfield.ac.uk/whats-on/events/event/64-a-l
 evels-summer-taster-sessions-2025
DTSTART;VALUE=DATE:20250709
LOCATION:Barnfield College - Main Building  (Barnfield\, Luton LU2 7BU\, UK
 )
SUMMARY:A Levels Summer Taster Sessions 2025
URL:https://www.barnfield.ac.uk/whats-on/events/event/64-a-levels-summer-ta
 ster-sessions-2025
END:VEVENT
END:VCALENDAR
