BEGIN:VCALENDAR
VERSION:2.0
PRODID:-//https://www.barnfield.ac.uk///NONSGML kigkonsult.se iCalcreator 2.10.15//
METHOD:PUBLISH
BEGIN:VEVENT
UID:20260420T022920UTC-3801RPkeCE@https://www.barnfield.ac.uk/
DTSTAMP:20260420T022920Z
DESCRIPTION:Discover life as a Plumbing student at a Taster Session. \nTher
 e is no better way to gain an insight into your chosen course than at a Ta
 ster Session\, you’ll get hands on in an interactive session to get a tast
 e of what it’s like to study with us.\nTaster Sessions are available for o
 ffer holders. If you are holding an offer for more than one course\, we’d 
 suggest you book for the course that is your current top choice. If you’d 
 like to attend more than one session\, you can do so if the sessions are r
 unning at different times.\nWhat to expect:\n\nInteractive ‘Have a go’ act
 ivity\nMeet course tutors\nMeet your new classmates\nGet questions answere
 d\n\nIn the Plumbing taster session\, you'll take part in an activity in F
 itting Pipes and Measuring Sizes.\nOn the Day\nOn arrival\, you’ll be welc
 omed by our Admissions team to sign in. Please arrive at least 15 minutes 
 before the start of your taster session. You can find directions for getti
 ng to college here. Taster sessions last 2 hours.\nWhat to wear\nPlease we
 ar suitable clothing. Overalls and safety boots are preferred.\nBook Now\n
 Click the button below to complete our short booking form to book your pla
 ce. Make sure to select your chosen course and time in the ticket box. You
 ’ll then receive a confirmation of your booking by email.\nBOOK NOW\nTaste
 r sessions are optional to attend\, but we encourage you to do so as it’s 
 a fantastic way to find out more about your course and prepare for joining
  us in September. We hope to see you there! https://www.barnfield.ac.uk/wh
 ats-on/events/event/63-plumbing-summer-taster-sessions-2025
DTSTART;VALUE=DATE:20250702
LOCATION:Barnfield College - Construction & Engineering Centre  (Barnfield\
 , Luton LU2 7BU\, UK)
SUMMARY:Plumbing Summer Taster Sessions 2025
URL:https://www.barnfield.ac.uk/whats-on/events/event/63-plumbing-summer-ta
 ster-sessions-2025
END:VEVENT
END:VCALENDAR
