BEGIN:VCALENDAR
VERSION:2.0
PRODID:-//https://www.barnfield.ac.uk///NONSGML kigkonsult.se iCalcreator 2.10.15//
METHOD:PUBLISH
BEGIN:VEVENT
UID:20260420T023245UTC-7039SXICAZ@https://www.barnfield.ac.uk/
DTSTAMP:20260420T023245Z
DESCRIPTION:Discover life as a Motor Vehicle student at a Taster Session. 
 \nThere is no better way to gain an insight into your chosen course than a
 t a Taster Session\, you’ll get hands on in an interactive session to get 
 a taste of what it’s like to study with us.\nTaster Sessions are available
  for offer holders. If you are holding an offer for more than one course\,
  we’d suggest you book for the course that is your current top choice. If 
 you’d like to attend more than one session\, you can do so if the sessions
  are running at different times.\nWhat to expect:\n\nInteractive ‘Have a g
 o’ activity\nMeet course tutors\nMeet your new classmates\nGet questions a
 nswered\n\nIn the Motor Vehicle taster session\,&nbsp\;you’ll take part in
  an activity in Removing Wheels\, Tyres\, or Fixing Breaks.\nOn the Day\nO
 n arrival\, you’ll be welcomed by our Admissions team to sign in. Please a
 rrive at least 15 minutes before the start of your taster session. You can
  find directions for getting to college here. Taster sessions last 2 hours
 .\nWhat to wear\nPlease wear suitable clothing. Overalls and safety boots 
 are preferred.\nBook Now\nClick the button below to complete our short boo
 king form to book your place. Make sure to select your chosen course and t
 ime in the ticket box. You’ll then receive a confirmation of your booking 
 by email.\nBOOK NOW\nTaster sessions are optional to attend\, but we encou
 rage you to do so as it’s a fantastic way to find out more about your cour
 se and prepare for joining us in September. We hope to see you there! http
 s://www.barnfield.ac.uk/whats-on/events/event/62-motor-vehicle-summer-tast
 er-sessions-2025
DTSTART;VALUE=DATE:20250702
LOCATION:Barnfield College - Construction & Engineering Centre  (Barnfield\
 , Luton LU2 7BU\, UK)
SUMMARY:Motor Vehicle Summer Taster Sessions 2025
URL:https://www.barnfield.ac.uk/whats-on/events/event/62-motor-vehicle-summ
 er-taster-sessions-2025
END:VEVENT
END:VCALENDAR
