BEGIN:VCALENDAR
VERSION:2.0
PRODID:-//https://www.barnfield.ac.uk///NONSGML kigkonsult.se iCalcreator 2.10.15//
METHOD:PUBLISH
BEGIN:VEVENT
UID:20260420T022719UTC-1881ndDLv5@https://www.barnfield.ac.uk/
DTSTAMP:20260420T022719Z
DESCRIPTION:Discover life as an Electrical Installation student at a Taster
  Session. \nThere is no better way to gain an insight into your chosen cou
 rse than at a Taster Session\, you’ll get hands on in an interactive sessi
 on to get a taste of what it’s like to study with us.\nTaster Sessions are
  available for offer holders. If you are holding an offer for more than on
 e course\, we’d suggest you book for the course that is your current top c
 hoice. If you’d like to attend more than one session\, you can do so if th
 e sessions are running at different times.\nWhat to expect:\n\nInteractive
  ‘Have a go’ activity\nMeet course tutors\nMeet your new classmates\nGet q
 uestions answered\n\nIn the Electrical Installation taster session\, you’l
 l take part in an activity inserting switches.\nOn the Day\nOn arrival\, y
 ou’ll be welcomed by our Admissions team to sign in. Please arrive at leas
 t 15 minutes before the start of your taster session. You can find directi
 ons for getting to college here. Taster sessions last 2 hours.\nWhat to we
 ar\nPlease wear suitable clothing. Overalls and safety boots are preferred
 .\nBook Now\nClick the button below to complete our short booking form to 
 book your place. Make sure to select your chosen course and time in the ti
 cket box. You’ll then receive a confirmation of your booking by email.\nBO
 OK NOW\nTaster sessions are optional to attend\, but we encourage you to d
 o so as it’s a fantastic way to find out more about your course and prepar
 e for joining us in September. We hope to see you there! https://www.barnf
 ield.ac.uk/whats-on/events/event/61-electrical-installation-summer-taster-
 sessions-2025
DTSTART;VALUE=DATE:20250702
LOCATION:Barnfield College - Construction & Engineering Centre  (Barnfield\
 , Luton LU2 7BU\, UK)
SUMMARY:Electrical Installation Summer Taster Sessions 2025
URL:https://www.barnfield.ac.uk/whats-on/events/event/61-electrical-install
 ation-summer-taster-sessions-2025
END:VEVENT
END:VCALENDAR
