BEGIN:VCALENDAR
VERSION:2.0
PRODID:-//https://www.barnfield.ac.uk///NONSGML kigkonsult.se iCalcreator 2.10.15//
METHOD:PUBLISH
BEGIN:VEVENT
UID:20260420T022619UTC-7179tIzcRv@https://www.barnfield.ac.uk/
DTSTAMP:20260420T022619Z
DESCRIPTION:Discover life as an Engineering student at a Taster Session. \n
 There is no better way to gain an insight into your chosen course than at 
 a Taster Session\, you’ll get hands on in an interactive session to get a 
 taste of what it’s like to study with us.\nTaster Sessions are available f
 or offer holders. If you are holding an offer for more than one course\, w
 e’d suggest you book for the course that is your current top choice. If yo
 u’d like to attend more than one session\, you can do so if the sessions a
 re running at different times.\nWhat to expect:\n\nInteractive ‘Have a go’
  activity\nMeet course tutors\nMeet your new classmates\nGet questions ans
 wered\n\nLevel 3 Aeronautical Engineering &amp\; T Level Civil Engineering
 \nIn the Level 3 Aeronautical Engineering and T Level Civil Engineering ta
 ster session you'll take part in an activity in Computer Aided Design (CAD
 ) and put your innovative skills to use to design products.\nOn the Day\nO
 n arrival\, you’ll be welcomed by our Admissions team to sign in. Please a
 rrive at least 15 minutes before the start of your taster session. You can
  find directions for getting to college here. Taster sessions last 2 hours
 .\nIn addition to this\, you will gain an idea of what it will be like to 
 study your course\, you will also have the opportunity to meet your soon-t
 o-be classmates\, along with course tutors and current students\, who are 
 both available to answer any questions you may have before starting with u
 s.\nBook Now\nClick the button below to complete our short booking form to
  book your place. Make sure to select your chosen course and time in the t
 icket box. You’ll then receive a confirmation of your booking by email.\nB
 OOK NOW\nTaster sessions are optional to attend\, but we encourage you to 
 do so as it’s a fantastic way to find out more about your course and prepa
 re for joining us in September. We hope to see you there! https://www.barn
 field.ac.uk/whats-on/events/event/60-engineering-summer-taster-days-2025
DTSTART;VALUE=DATE:20250702
LOCATION:Barnfield College - Construction & Engineering Centre  (Barnfield\
 , Luton LU2 7BU\, UK)
SUMMARY:Engineering Summer Taster Days 2025
URL:https://www.barnfield.ac.uk/whats-on/events/event/60-engineering-summer
 -taster-days-2025
END:VEVENT
END:VCALENDAR
