BEGIN:VCALENDAR
VERSION:2.0
PRODID:-//https://www.barnfield.ac.uk///NONSGML kigkonsult.se iCalcreator 2.10.15//
METHOD:PUBLISH
BEGIN:VEVENT
UID:20260420T022627UTC-0747LF69ZU@https://www.barnfield.ac.uk/
DTSTAMP:20260420T022627Z
DESCRIPTION:Discover life as a Construction student at a Taster Session.\nT
 here is no better way to gain an insight into your chosen course than at a
  Taster Session\, you’ll get hands on in an interactive session to get a t
 aste of what it’s like to study with us.\nTaster Sessions are available fo
 r offer holders. If you are holding an offer for more than one course\, we
 ’d suggest you book for the course that is your current top choice. If you
 ’d like to attend more than one session\, you can do so if the sessions ar
 e running at different times.\nWhat to expect:\n\nInteractive ‘Have a go’ 
 activity\nMeet course tutors\nMeet your new classmates\nGet questions answ
 ered\n\nCarpentry\nIn the Carpentry taster session\, you'll get creative a
 nd make something you'd like out of wood. You'll gain knowledge in cutting
  joints in\, as well as the course content.\nConstruction Skills\nIn the C
 onstruction Skills taster session\, you'll take part in an activity in Pla
 stering or Painting.\nBrickwork\nIn the Brickwork taster session\, you'll 
 take part in an activity in Building Walls.\nOn the Day&nbsp\;\nOn arrival
 \, you’ll be welcomed by our Admissions team to sign in. Please arrive at 
 least 15 minutes before the start of your taster session. You can find dir
 ections for getting to college here. Taster sessions last 2 hours.\nWhat t
 o wear&nbsp\;\nPlease wear suitable clothing. Overalls and safety boots ar
 e preferred.\nBook Now\nClick the button below to complete our short booki
 ng form to book your place. Make sure to select your chosen course and tim
 e in the ticket box. You’ll then receive a confirmation of your booking by
  email.\nBOOK NOW\nTaster sessions are optional to attend\, but we encoura
 ge you to do so as it’s a fantastic way to find out more about your course
  and prepare for joining us in September. We hope to see you there!&nbsp\;
  https://www.barnfield.ac.uk/whats-on/events/event/59-construction-summer-
 taster-days-2025
DTSTART;VALUE=DATE:20250702
LOCATION:Barnfield College - Construction & Engineering Centre  (Barnfield\
 , Luton LU2 7BU\, UK)
SUMMARY:Construction Summer Taster Days 2025
URL:https://www.barnfield.ac.uk/whats-on/events/event/59-construction-summe
 r-taster-days-2025
END:VEVENT
END:VCALENDAR
