BEGIN:VCALENDAR
VERSION:2.0
PRODID:-//https://www.barnfield.ac.uk///NONSGML kigkonsult.se iCalcreator 2.10.15//
METHOD:PUBLISH
BEGIN:VEVENT
UID:20260420T022935UTC-7039uLgzvT@https://www.barnfield.ac.uk/
DTSTAMP:20260420T022935Z
DESCRIPTION:Discover life as a Music student at a Taster Session. \nThere i
 s no better way to gain an insight into your chosen course than at a Taste
 r Session\, you’ll get hands on in an interactive session to get a taste o
 f what it’s like to study with us.\nTaster Sessions are available for offe
 r holders. If you are holding an offer for more than one course\, we’d sug
 gest you book for the course that is your current top choice. If you’d lik
 e to attend more than one session\, you can do so if the sessions are runn
 ing at different times.\nWhat to expect:\n\nInteractive ‘Have a go’ activi
 ty\nMeet course tutors\nMeet your new classmates\nGet questions answered\n
 \nLevel 2 Music Performance\, Level 2 Music Production\, Level 3 Music Per
 formance &amp\; Level 3 Music Production\nIn the&nbsp\;Level 2 Music Perfo
 rmance\, Level 2 Music Production\, Level 3 Music Performance &amp\; Level
  2 Music Production taster session\, you’ll try out different instruments 
 and have an Introduction to Logic.\nOn the Day\nOn arrival\, you’ll be wel
 comed by our Admissions team to sign in. Please arrive at least 15 minutes
  before the start of your taster session. You can find directions for gett
 ing to college here. Taster sessions last 2 hours.\nBook Now\nClick the bu
 tton below to complete our short booking form to book your place. Make sur
 e to select your chosen course and time in the ticket box. You’ll then rec
 eive a confirmation of your booking by email.\nBOOK NOW\nTaster sessions a
 re optional to attend\, but we encourage you to do so as it’s a fantastic 
 way to find out more about your course and prepare for joining us in Septe
 mber. We hope to see you there! https://www.barnfield.ac.uk/whats-on/event
 s/event/58-music-summer-taster-sessions-2025
DTSTART;VALUE=DATE:20250702
LOCATION:Barnfield College - Main Building  (Barnfield\, Luton LU2 7BU\, UK
 )
SUMMARY:Music Summer Taster Sessions 2025
URL:https://www.barnfield.ac.uk/whats-on/events/event/58-music-summer-taste
 r-sessions-2025
END:VEVENT
END:VCALENDAR
