BEGIN:VCALENDAR
VERSION:2.0
PRODID:-//https://www.barnfield.ac.uk///NONSGML kigkonsult.se iCalcreator 2.10.15//
METHOD:PUBLISH
BEGIN:VEVENT
UID:20260420T022815UTC-8587Utt57S@https://www.barnfield.ac.uk/
DTSTAMP:20260420T022815Z
DESCRIPTION:Discover life as a Digital Gaming student at a Taster Session.
 \nThere is no better way to gain an insight into your chosen course than a
 t a Taster Session\, you’ll get hands on in an interactive session to get 
 a taste of what it’s like to study with us.\nTaster Sessions are available
  for offer holders. If you are holding an offer for more than one course\,
  we’d suggest you book for the course that is your current top choice. If 
 you’d like to attend more than one session\, you can do so if the sessions
  are running at different times.\nWhat to expect:\n\nInteractive ‘Have a g
 o’ activity\nMeet course tutors\nMeet your new classmates\nGet questions a
 nswered\n\nAt the Level 2 and Level 3 Digital Gaming taster session\, you 
 will dive into the world of creativity having the opportunity to create a 
 storyboard\, develop a character and present your work to the class.\nOn t
 he Day\nOn arrival\, you’ll be welcomed by our Admissions team to sign in.
  Please arrive at least 15 minutes before the start of your taster session
 . You can find directions for getting to college&nbsp\;here.&nbsp\;Taster 
 sessions last 2 hours.\nBook Now\nClick the button below to complete our s
 hort booking form to book your place. Make sure to select your chosen cour
 se and time in the ticket box. You’ll then receive a confirmation of your 
 booking by email.\nBOOK NOW\nTaster sessions are optional to attend\, but 
 we encourage you to do so as it’s a fantastic way to find out more about y
 our course and prepare for joining us in September. We hope to see you the
 re! https://www.barnfield.ac.uk/whats-on/events/event/57-digital-gaming-su
 mmer-taster-sessions-2025
DTSTART:20250702T090000Z
DTEND:20250702T110000Z
LOCATION:Barnfield College - Main Building  (Barnfield\, Luton LU2 7BU\, UK
 )
SUMMARY:Digital Gaming Summer Taster Sessions 2025
URL:https://www.barnfield.ac.uk/whats-on/events/event/57-digital-gaming-sum
 mer-taster-sessions-2025
END:VEVENT
END:VCALENDAR
