BEGIN:VCALENDAR
VERSION:2.0
PRODID:-//https://www.barnfield.ac.uk///NONSGML kigkonsult.se iCalcreator 2.10.15//
METHOD:PUBLISH
BEGIN:VEVENT
UID:20260420T022759UTC-8494jAVB4J@https://www.barnfield.ac.uk/
DTSTAMP:20260420T022759Z
DESCRIPTION:Discover life as a Media student at a Taster Session\nThere is 
 no better way to gain an insight into your chosen course than at a Taster 
 Session\, you’ll get hands on in an interactive session to get a taste of 
 what it’s like to study with us.\nTaster Sessions are available for offer 
 holders. If you are holding an offer for more than one course\, we’d sugge
 st you book for the course that is your current top choice. If you’d like 
 to attend more than one session\, you can do so if the sessions are runnin
 g at different times.\nWhat to expect:\n\nInteractive ‘Have a go’ activity
 \nMeet course tutors\nMeet your new classmates\nGet questions answered\n\n
 At the&nbsp\;Level 2 Creative Media Production &amp\; Level 3 Creative Med
 ia Production &amp\; Technology taster session\, you will dive into the wo
 rld of creativity during the opportunity to create a storyboard\, and a sh
 ort film to present to the class.\nOn the Day\nOn arrival\, you’ll be welc
 omed by our Admissions team to sign in. Please arrive at least 15 minutes 
 before the start of your taster session. You can find directions for getti
 ng to college here. Taster sessions last 2 hours.\nBook Now\nClick the but
 ton below to complete our short booking form to book your place. Make sure
  to select your chosen course and time in the ticket box. You’ll then rece
 ive a confirmation of your booking by email.\nBOOK NOW\nTaster sessions ar
 e optional to attend\, but we encourage you to do so as it’s a fantastic w
 ay to find out more about your course and prepare for joining us in Septem
 ber. We hope to see you there! https://www.barnfield.ac.uk/whats-on/events
 /event/56-media-summer-taster-sessions-2025
DTSTART;VALUE=DATE:20250702
LOCATION:Barnfield College - Main Building  (Barnfield\, Luton LU2 7BU\, UK
 )
SUMMARY:Media Summer Taster Sessions 2025
URL:https://www.barnfield.ac.uk/whats-on/events/event/56-media-summer-taste
 r-sessions-2025
END:VEVENT
END:VCALENDAR
