BEGIN:VCALENDAR
VERSION:2.0
PRODID:-//https://www.barnfield.ac.uk///NONSGML kigkonsult.se iCalcreator 2.10.15//
METHOD:PUBLISH
BEGIN:VEVENT
UID:20260420T023318UTC-9934vHVl5K@https://www.barnfield.ac.uk/
DTSTAMP:20260420T023318Z
DESCRIPTION:Discover life as a Hair &amp\; Beauty student at a Taster Sessi
 on. \nThere is no better way to gain an insight into your chosen course th
 an at a Taster Session\, you’ll get hands on in an interactive session to 
 get a taste of what it’s like to study with us.\nTaster Sessions are avail
 able for offer holders. If you are holding an offer for more than one cour
 se\, we’d suggest you book for the course that is your current top choice.
  If you’d like to attend more than one session\, you can do so if the sess
 ions are running at different times.\nWhat to expect:\n\nInteractive ‘Have
  a go’ activity\nMeet course tutors\nMeet your new classmates\nGet questio
 ns answered\n\nLevel 1 Hair &amp\; Barbering\nIn the Level 1 Hair &amp\; B
 arbering taster session\,&nbsp\;you’ll take part in an activity in Plaitin
 g and Customer Role Plays.\nLevel 1 Beauty\nIn the Level 1 Beauty taster s
 ession\, you’ll take part in an activity in Nail Filing and Cleansing and 
 Toning.\nWhat to wear\nPlease dress in a black t shirt\, black shoes and b
 lack trousers. Hair tied back and no acyrlic nails.\nOn the Day\nOn arriva
 l\, you’ll be welcomed by our Admissions team to sign in. Please arrive at
  least 15 minutes before the start of your taster session. You can find di
 rections for getting to college here. Taster sessions last 2 hours.\nWhat 
 to wear\nYou are required to dress in a&nbsp\; black T-Shirt\, trousers an
 d shoes. In our Salons students are also expected to maintain the Hair and
  Beauty industry professional standards of hair being tied back and wearin
 g no jewellery\, piercings\, nail polish\, fake nails or fake eyelashes.\n
 Book Now\nClick the button below to complete our short booking form to boo
 k your place. Make sure to select your chosen course and time in the ticke
 t box. You’ll then receive a confirmation of your booking by email.\nBOOK 
 NOW\nTaster sessions are optional to attend\, but we encourage you to do s
 o as it’s a fantastic way to find out more about your course and prepare f
 or joining us in September. We hope to see you there! https://www.barnfiel
 d.ac.uk/whats-on/events/event/55-hair-beauty-summer-taster-sessions-2025
DTSTART:20250702T090000Z
DTEND:20250703T130000Z
LOCATION:Barnfield College - Main Building  (Barnfield\, Luton LU2 7BU\, UK
 )
SUMMARY:Hair & Beauty Summer Taster Sessions 2025
URL:https://www.barnfield.ac.uk/whats-on/events/event/55-hair-beauty-summer
 -taster-sessions-2025
END:VEVENT
END:VCALENDAR
