BEGIN:VCALENDAR
VERSION:2.0
PRODID:-//https://www.barnfield.ac.uk///NONSGML kigkonsult.se iCalcreator 2.10.15//
METHOD:PUBLISH
BEGIN:VEVENT
UID:20260420T021137UTC-3590MaLu9w@https://www.barnfield.ac.uk/
DTSTAMP:20260420T021137Z
DESCRIPTION:Discover life as a Art &amp\; Design student at a Taster Sessio
 n. \nThere is no better way to gain an insight into your chosen course tha
 n at a Taster Session\, you’ll get hands on in an interactive session to g
 et a taste of what it’s like to study with us.\nTaster Sessions are availa
 ble for offer holders. If you are holding an offer for more than one cours
 e\, we’d suggest you book for the course that is your current top choice. 
 If you’d like to attend more than one session\, you can do so if the sessi
 ons are running at different times.\nWhat to expect:\n\nInteractive ‘Have 
 a go’ activity\nMeet course tutors\nMeet your new classmates\nGet question
 s answered\n\nLevel 1 Art &amp\; Design &amp\; Level 2 Art &amp\; Design\n
 In the Level 1 Art &amp\; Design and Level 2 Art &amp\; Design taster sess
 ion\, you’ll take part in Observational Drawing and Colour Work.\nLevel 3 
 Art &amp\; Design &amp\; Level 3 Foundation Diploma in Art &amp\; Design\n
 In the Level 3 Art &amp\;&nbsp\; Design and Level 3 Foundation Diploma in 
 Art &amp\; Design taster session\,&nbsp\;you’ll take part in Print Making 
 and Digital Drawing.\nLevel 3 Digital Illustration and Animation\, Level 3
  Architecture &amp\; Interior Design &amp\; Level 3 Graphic Design\nIn the
  Level 3 Digital Illustration and Animation\, Level 3 Architecture &amp\; 
 Interior Design&nbsp\; and Level 3 Graphic Design taster session\,&nbsp\;y
 ou’ll take part in Print Making and Digital Drawing.\nOn the Day\nOn arriv
 al\, you’ll be welcomed by our Admissions team to sign in. Please arrive a
 t least 15 minutes before the start of your taster session. You can find d
 irections for getting to college here. Taster sessions last 2 hours.\nBook
  Now\nClick the button below to complete our short booking form to book yo
 ur place. Make sure to select your chosen course and time in the ticket bo
 x. You’ll then receive a confirmation of your booking by email.\nBOOK NOW
 \nTaster sessions are optional to attend\, but we encourage you to do so a
 s it’s a fantastic way to find out more about your course and prepare for 
 joining us in September. We hope to see you there! https://www.barnfield.a
 c.uk/whats-on/events/event/54-art-design-summer-taster-sessions-2025
DTSTART;VALUE=DATE:20250702
LOCATION:Barnfield College - Main Building  (Barnfield\, Luton LU2 7BU\, UK
 )
SUMMARY:Art & Design Summer Taster Sessions 2025
URL:https://www.barnfield.ac.uk/whats-on/events/event/54-art-design-summer-
 taster-sessions-2025
END:VEVENT
END:VCALENDAR
