BEGIN:VCALENDAR
VERSION:2.0
PRODID:-//https://www.barnfield.ac.uk///NONSGML kigkonsult.se iCalcreator 2.10.15//
METHOD:PUBLISH
BEGIN:VEVENT
UID:20260420T021613UTC-18525d3UUA@https://www.barnfield.ac.uk/
DTSTAMP:20260420T021613Z
DESCRIPTION:Discover life as a Science student at a Taster Session.\nThere 
 is no better way to gain an insight into your chosen course than at a Tast
 er Session\, you’ll get hands on in an interactive session to get a taste 
 of what it’s like to study with us.\nTaster Sessions are available for off
 er holders. If you are holding an offer for more than one course\, we’d su
 ggest you book for the course that is your current top choice. If you’d li
 ke to attend more than one session\, you can do so if the sessions are run
 ning at different times.\nWhat to expect:\n\nInteractive ‘Have a go’ activ
 ity\nMeet course tutors\nMeet your new classmates\nGet questions answered
 \n\nYou will have the opportunity to tour our amazing campus and facilitie
 s\, along with taking part in an interactive science practical task.\nOn t
 he Day\nOn arrival\, you’ll be welcomed by our Admissions team to sign in.
  Please arrive at least 15 minutes before the start of your taster session
 . You can find directions for getting to college&nbsp\;here.&nbsp\;Taster 
 sessions last 2 hours.\nBook Now\nClick the button below to complete our s
 hort booking form to book your place. Make sure to select your chosen cour
 se and time in the ticket box. You’ll then receive a confirmation of your 
 booking by email.\nBOOK NOW\nTaster sessions are optional to attend\, but 
 we encourage you to do so as it’s a fantastic way to find out more about y
 our course and prepare for joining us in September. We hope to see you the
 re! https://www.barnfield.ac.uk/whats-on/events/event/53-science-summer-ta
 ster-sessions-2025
DTSTART;VALUE=DATE:20250702
LOCATION:Barnfield College - Main Building  (Barnfield\, Luton LU2 7BU\, UK
 )
SUMMARY:Science Summer Taster Sessions 2025
URL:https://www.barnfield.ac.uk/whats-on/events/event/53-science-summer-tas
 ter-sessions-2025
END:VEVENT
END:VCALENDAR
