BEGIN:VCALENDAR
VERSION:2.0
PRODID:-//https://www.barnfield.ac.uk///NONSGML kigkonsult.se iCalcreator 2.10.15//
METHOD:PUBLISH
BEGIN:VEVENT
UID:20260420T023356UTC-1135V8JuVE@https://www.barnfield.ac.uk/
DTSTAMP:20260420T023356Z
DESCRIPTION:Discover life as a Health &amp\; Social Care student at a Taste
 r Session.\nThere is no better way to gain an insight into your chosen cou
 rse than at a Taster Session\, you’ll get hands on in an interactive sessi
 on to get a taste of what it’s like to study with us.\nTaster Sessions are
  available for offer holders. If you are holding an offer for more than on
 e course\, we’d suggest you book for the course that is your current top c
 hoice. If you’d like to attend more than one session\, you can do so if th
 e sessions are running at different times.\nWhat to expect:\n\nInteractive
  ‘Have a go’ activity\nMeet course tutors\nMeet your new classmates\nGet q
 uestions answered\n\nYou will have the opportunity to tour our amazing cam
 pus and facilities\, along with taking part in an exciting course-related 
 task where you'll be learning about bandaging and some first aid training.
 \nOn the Day\nOn arrival\, you’ll be welcomed by our Admissions team to si
 gn in. Please arrive at least 15 minutes before the start of your taster s
 ession. You can find directions for getting to college&nbsp\;here.&nbsp\;T
 aster sessions last 2 hours.\nBook Now\nClick the button below to complete
  our short booking form to book your place. Make sure to select your chose
 n course and time in the ticket box. You’ll then receive a confirmation of
  your booking by email.\nBOOK NOW\nTaster sessions are optional to attend\
 , but we encourage you to do so as it’s a fantastic way to find out more a
 bout your course and prepare for joining us in September. We hope to see y
 ou there! https://www.barnfield.ac.uk/whats-on/events/event/52-health-soci
 al-care-summer-taster-sessions-2025
DTSTART:20250702T090000Z
DTEND:20250703T110000Z
LOCATION:Barnfield College - Main Building  (Barnfield\, Luton LU2 7BU\, UK
 )
SUMMARY:Health & Social Care Summer Taster Sessions 2025
URL:https://www.barnfield.ac.uk/whats-on/events/event/52-health-social-care
 -summer-taster-sessions-2025
END:VEVENT
END:VCALENDAR
