BEGIN:VCALENDAR
VERSION:2.0
PRODID:-//https://www.barnfield.ac.uk///NONSGML kigkonsult.se iCalcreator 2.10.15//
METHOD:PUBLISH
BEGIN:VEVENT
UID:20260420T021452UTC-98983Hfl0S@https://www.barnfield.ac.uk/
DTSTAMP:20260420T021452Z
DESCRIPTION:Discover life as a Children &amp\; Early Years student at a Tas
 ter Session.\nThere is no better way to gain an insight into your chosen c
 ourse than at a Taster Session\, you’ll get hands on in an interactive ses
 sion to get a taste of what it’s like to study with us.\nTaster Sessions a
 re available for offer holders. If you are holding an offer for more than 
 one course\, we’d suggest you book for the course that is your current top
  choice. If you’d like to attend more than one session\, you can do so if 
 the sessions are running at different times.\nWhat to expect:\n\nInteracti
 ve ‘Have a go’ activity\nMeet course tutors\nMeet your new classmates\nGet
  questions answered\n\nYou will have the opportunity to tour our amazing c
 ampus and facilities\, along with taking part in an exciting course-relate
 d task where you'll be changing nappies and sterilising bottles.\nOn the D
 ay\nOn arrival\, you’ll be welcomed by our Admissions team to sign in. Ple
 ase arrive at least 15 minutes before the start of your taster session. Yo
 u can find directions for getting to college&nbsp\;here.&nbsp\;Taster sess
 ions last 2 hours.\nBook Now\nClick the button below to complete our short
  booking form to book your place. Make sure to select your chosen course a
 nd time in the ticket box. You’ll then receive a confirmation of your book
 ing by email.\nBOOK NOW\nTaster sessions are optional to attend\, but we e
 ncourage you to do so as it’s a fantastic way to find out more about your 
 course and prepare for joining us in September. We hope to see you there! 
 https://www.barnfield.ac.uk/whats-on/events/event/51-childcare-summer-tast
 er-sessions-2025
DTSTART:20250702T090000Z
DTEND:20250703T110000Z
LOCATION:Barnfield College - Main Building  (Barnfield\, Luton LU2 7BU\, UK
 )
SUMMARY:Childcare Summer Taster Sessions 2025
URL:https://www.barnfield.ac.uk/whats-on/events/event/51-childcare-summer-t
 aster-sessions-2025
END:VEVENT
END:VCALENDAR
