BEGIN:VCALENDAR
VERSION:2.0
PRODID:-//https://www.barnfield.ac.uk///NONSGML kigkonsult.se iCalcreator 2.10.15//
METHOD:PUBLISH
BEGIN:VEVENT
UID:20260420T023106UTC-5157JL5hsJ@https://www.barnfield.ac.uk/
DTSTAMP:20260420T023106Z
DESCRIPTION:Discover life as a Travel student at a Taster Session.\nThere i
 s no better way to gain an insight into your chosen course than at a Taste
 r Session\, you’ll get hands on in an interactive session to get a taste o
 f what it’s like to study with us.\nTaster Sessions are available for offe
 r holders. If you are holding an offer for more than one course\, we’d sug
 gest you book for the course that is your current top choice. If you’d lik
 e to attend more than one session\, you can do so if the sessions are runn
 ing at different times.\nWhat to expect:\n\nInteractive ‘Have a go’ activi
 ty\nMeet course tutors\nMeet your new classmates\nGet questions answered\n
 \nYou will have the opportunity to tour our amazing campus and facilities\
 , along with taking part in an exciting course-related task where you'll b
 e designing the perfect island.\nOn the Day\nOn arrival\, you’ll be welcom
 ed by our Admissions team to sign in. Please arrive at least 15 minutes be
 fore the start of your taster session. You can find directions for getting
  to college&nbsp\;here.&nbsp\;Taster sessions last 2 hours.\nBook Now\nCli
 ck the button below to complete our short booking form to book your place.
  Make sure to select your chosen course and time in the ticket box. You’ll
  then receive a confirmation of your booking by email.\nBOOK NOW\nTaster s
 essions are optional to attend\, but we encourage you to do so as it’s a f
 antastic way to find out more about your course and prepare for joining us
  in September. We hope to see you there! https://www.barnfield.ac.uk/whats
 -on/events/event/50-travel-summer-taster-sessions-2025
DTSTART;VALUE=DATE:20250702
LOCATION:Barnfield College - Main Building  (Barnfield\, Luton LU2 7BU\, UK
 )
SUMMARY:Travel Summer Taster Sessions 2025
URL:https://www.barnfield.ac.uk/whats-on/events/event/50-travel-summer-tast
 er-sessions-2025
END:VEVENT
END:VCALENDAR
