BEGIN:VCALENDAR
VERSION:2.0
PRODID:-//https://www.barnfield.ac.uk///NONSGML kigkonsult.se iCalcreator 2.10.15//
METHOD:PUBLISH
BEGIN:VEVENT
UID:20260420T023055UTC-0738CELcit@https://www.barnfield.ac.uk/
DTSTAMP:20260420T023055Z
DESCRIPTION:Discover life as a Sport student at a Taster Session.\nThere is
  no better way to gain an insight into your chosen course than at a Taster
  Session\, you’ll get hands on in an interactive session to get a taste of
  what it’s like to study with us.\nTaster Sessions are available for offer
  holders. If you are holding an offer for more than one course\, we’d sugg
 est you book for the course that is your current top choice. If you’d like
  to attend more than one session\, you can do so if the sessions are runni
 ng at different times.\nWhat to expect:\n\nInteractive ‘Have a go’ activit
 y\nMeet course tutors\nMeet your new classmates\nGet questions answered\n
 \nYou will have the opportunity to take part in fitness testing.\nOn the D
 ay\nOn arrival\, you’ll be welcomed by our Admissions team to sign in. Ple
 ase arrive at least 15 minutes before the start of your taster session. Yo
 u can find directions for getting to college&nbsp\;here.&nbsp\;Taster sess
 ions last 2 hours.\nBook Now\nClick the button below to complete our short
  booking form to book your place. Make sure to select your chosen course a
 nd time in the ticket box. You’ll then receive a confirmation of your book
 ing by email.\nBOOK NOW\nTaster sessions are optional to attend\, but we e
 ncourage you to do so as it’s a fantastic way to find out more about your 
 course and prepare for joining us in September. We hope to see you there! 
 https://www.barnfield.ac.uk/whats-on/events/event/49-sport-summer-taster-s
 essions-2025
DTSTART;VALUE=DATE:20250702
LOCATION:Barnfield College - Main Building  (Barnfield\, Luton LU2 7BU\, UK
 )
SUMMARY:Sport Summer Taster Sessions 2025
URL:https://www.barnfield.ac.uk/whats-on/events/event/49-sport-summer-taste
 r-sessions-2025
END:VEVENT
END:VCALENDAR
