BEGIN:VCALENDAR
VERSION:2.0
PRODID:-//https://www.barnfield.ac.uk///NONSGML kigkonsult.se iCalcreator 2.10.15//
METHOD:PUBLISH
BEGIN:VEVENT
UID:20260420T022822UTC-9422uVkrh6@https://www.barnfield.ac.uk/
DTSTAMP:20260420T022822Z
DESCRIPTION:Discover life as a Public Services student at a Taster Session.
 \nThere is no better way to gain an insight into your chosen course than a
 t a Taster Session\, you’ll get hands on in an interactive session to get 
 a taste of what it’s like to study with us.\nTaster Sessions are available
  for offer holders. If you are holding an offer for more than one course\,
  we’d suggest you book for the course that is your current top choice. If 
 you’d like to attend more than one session\, you can do so if the sessions
  are running at different times.\nWhat to expect:\n\nInteractive ‘Have a g
 o’ activity\nMeet course tutors\nMeet your new classmates\nGet questions a
 nswered\n\nYou will be given the full Public Services experience by taking
  part in a police security search and fingerprinting.\nOn the Day\nOn arri
 val\, you’ll be welcomed by our Admissions team to sign in. Please arrive 
 at least 15 minutes before the start of your taster session. You can find 
 directions for getting to college&nbsp\;here.&nbsp\;Taster sessions last 2
  hours.\nBook Now\nClick the button below to complete our short booking fo
 rm to book your place. Make sure to select your chosen course and time in 
 the ticket box. You’ll then receive a confirmation of your booking by emai
 l.\nBOOK NOW\nTaster sessions are optional to attend\, but we encourage yo
 u to do so as it’s a fantastic way to find out more about your course and 
 prepare for joining us in September. We hope to see you there! https://www
 .barnfield.ac.uk/whats-on/events/event/48-public-services-summer-taster-se
 ssions-2025
DTSTART;VALUE=DATE:20250702
LOCATION:Barnfield College - Main Building  (Barnfield\, Luton LU2 7BU\, UK
 )
SUMMARY:Public Services Summer Taster Sessions 2025
URL:https://www.barnfield.ac.uk/whats-on/events/event/48-public-services-su
 mmer-taster-sessions-2025
END:VEVENT
END:VCALENDAR
