BEGIN:VCALENDAR
VERSION:2.0
PRODID:-//https://www.barnfield.ac.uk///NONSGML kigkonsult.se iCalcreator 2.10.15//
METHOD:PUBLISH
BEGIN:VEVENT
UID:20260420T023013UTC-1843OS4x7N@https://www.barnfield.ac.uk/
DTSTAMP:20260420T023013Z
DESCRIPTION:Discover life as a Business student at a Taster Session.\nThere
  is no better way to gain an insight into your chosen course than at a Tas
 ter Session\, you’ll get hands on in an interactive session to get a taste
  of what it’s like to study with us.\nTaster Sessions are available for of
 fer holders. If you are holding an offer for more than one course\, we’d s
 uggest you book for the course that is your current top choice. If you’d l
 ike to attend more than one session\, you can do so if the sessions are ru
 nning at different times.\nWhat to expect:\n\nInteractive ‘Have a go’ acti
 vity\nMeet course tutors\nMeet your new classmates\nGet questions answered
 \n\nYou will have the opportunity to immerse yourself in a real life busin
 ess situation where you'll be designing and promoting a product of your ch
 oice.\nOn the Day\nOn arrival\, you’ll be welcomed by our Admissions team 
 to sign in. Please arrive at least 15 minutes before the start of your tas
 ter session. You can find directions for getting to college&nbsp\;here.&nb
 sp\;Taster sessions last 2 hours.\nBook Now\nClick the button below to com
 plete our short booking form to book your place. Make sure to select your 
 chosen course and time in the ticket box. You’ll then receive a confirmati
 on of your booking by email.\nBOOK NOW\nTaster sessions are optional to at
 tend\, but we encourage you to do so as it’s a fantastic way to find out m
 ore about your course and prepare for joining us in September. We hope to 
 see you there! https://www.barnfield.ac.uk/whats-on/events/event/46-busine
 ss-summer-taster-sessions-2025
DTSTART;VALUE=DATE:20250702
LOCATION:Barnfield College - Main Building  (Barnfield\, Luton LU2 7BU\, UK
 )
SUMMARY:Business Summer Taster Sessions 2025
URL:https://www.barnfield.ac.uk/whats-on/events/event/46-business-summer-ta
 ster-sessions-2025
END:VEVENT
END:VCALENDAR
