BEGIN:VCALENDAR
VERSION:2.0
PRODID:-//https://www.barnfield.ac.uk///NONSGML kigkonsult.se iCalcreator 2.10.15//
METHOD:PUBLISH
BEGIN:VEVENT
UID:20260421T114342UTC-1413ElVhU9@https://www.barnfield.ac.uk/
DTSTAMP:20260421T114342Z
DESCRIPTION:Discover your path into teaching in Further Education and Lifel
 ong Learning\nThinking about a career change? If you’re passionate about y
 our subject and want a role where you can inspire others\, teaching in the
  Further Education (FE) and Lifelong Learning sector could be your next st
 ep.\n\nOur Teacher Training Open Evening is designed for people exploring 
 a move into teaching—whether you’re coming from industry\, returning to wo
 rk\, or simply looking for a more fulfilling and impactful career. At Barn
 field College\, in partnership with the University of Huddersfield\, we of
 fer professional teacher‑training qualifications that prepare you to teach
  young people and adults across FE colleges\, sixth forms\, adult educatio
 n\, community learning\, workplace training\, and more.\n&nbsp\;\nWho Shou
 ld Attend?\nThis event is perfect for:\n\nCareer changers ready to bring t
 heir professional expertise into the classroom\nIndustry specialists looki
 ng to share their knowledge with the next generation\nGraduates considerin
 g a PGCE route into FE teaching\nAnyone curious about teaching in FE\, adu
 lt education\, community learning\, or training environments\n\nIf you enj
 oy supporting others and want a career with purpose\, FE teaching could be
  an excellent fit.\n&nbsp\;\n\nWhat to expect\n\nOver the course of the ev
 ening\, you'll discover:\n\nYour training options – A clear overview of th
 e CertEd and PGCE routes\, with both full‑time and part‑time study availab
 le.\nWhat the courses involve – How practical teaching placements\, real c
 lassroom experience\, and specialist support help you build confidence.\nE
 ntry requirements &amp\; support – Guidance on qualifications\, funding\, 
 DBS checks\, and the application process.\nInsights from experts – Hear fr
 om tutors and current trainees about studying and teaching in the FE and L
 ifelong Learning sector&nbsp\;\n\n\n\n&nbsp\;\n\nAbout the courses\nIn par
 tnership with the University of Huddersfield\, we offer two flexible\, wel
 l‑respected routes into teaching in FE and Lifelong Learning:\n\nCertifica
 te in Education (Lifelong Learning) – Level 5&nbsp\;–&nbsp\;A great choice
  if you don’t hold a degree but want a recognised qualification to teach i
 n the FE and adult learning sector.\nPGCE (Lifelong Learning)&nbsp\;–&nbsp
 \;Ideal for graduates who want to teach learners aged 16+ across FE colleg
 es\, adult education\, community learning\, workplace training and more.\n
 \nBoth pathways provide:\n\nExtensive hands‑on teaching placements\nSuppor
 t from experienced tutors and mentors\nOpportunities to develop subject‑sp
 ecialist expertise\nA progression route toward QTLS status\, the recognise
 d benchmark for FE teaching\n\n&nbsp\;\n\nBook Now\n\nOur Teacher Training
  Open Evening will give you everything you need to feel informed\, confide
 nt\, and excited about taking the first step.\nBOOK NOW https://www.barnfi
 eld.ac.uk/whats-on/events/event/110-teacher-training-open-evening
DTSTART:20260421T160000Z
DTEND:20260421T180000Z
LOCATION:Barnfield College (Barnfield College\, Barnfield Ave\, Luton LU2 7
 BF\, UK)
SUMMARY:Teacher Training Open Evening
URL:https://www.barnfield.ac.uk/whats-on/events/event/110-teacher-training-
 open-evening
END:VEVENT
END:VCALENDAR
