BEGIN:VCALENDAR
VERSION:2.0
PRODID:-//https://www.barnfield.ac.uk///NONSGML kigkonsult.se iCalcreator 2.10.15//
METHOD:PUBLISH
BEGIN:VEVENT
UID:20260421T155515UTC-5240iUfHUf@https://www.barnfield.ac.uk/
DTSTAMP:20260421T155515Z
DESCRIPTION:Boost your confidence and transform your haircare skills.\n📅 Up
 coming Dates:\n\nMonday 30 March 2026 – 10am – 2pm\nFriday 10 April 2026 –
  10am – 2pm\nTuesday 26 May 2026 – 10am – 2pm\n\n📍 Location: The Salon at 
 Barnfield College\n💰 Cost: Free\nAll sessions take place in a fully access
 ible salon.\nAbout\nBarnfield College is proud to support carers and those
  they care for by offering a free\, fun\, hands-on programme designed to m
 ake hair care easier and more enjoyable. This initiative responds to real 
 requests from carers and care recipients for practical skills that improve
  everyday life.\nWhat You’ll Learn\nWhat is taught in each session will be
  led by carers themselves\, focusing on what they would like to learn. Our
  team will provide guidance and support to ensure everyone leaves feeling 
 confident and equipped. Types of skills the sessions can cover are:\n\nBas
 ic Hair Care Techniques: Washing\, drying\, and detangling safely\nStyling
  Tips: Easy everyday hairstyles for comfort and confidence\nWorking with D
 ifferent Hair Types: Straight\, curly\, and textured hair\nPractical Advic
 e: Choosing the right tools and products for different needs\n\nWhy Join?
 \n\nGain confidence in hair care\nLearn from experienced professionals\nCo
 nnect with other carers in a supportive environment\n\n✅ Limited spaces av
 ailable – register your interest today! https://www.barnfield.ac.uk/whats-
 on/events/event/102-haircare-skills-for-carers
DTSTART:20260330T090000Z
DTEND:20260526T130000Z
LOCATION:Barnfield College - Main Building  (Barnfield\, Luton LU2 7BU\, UK
 )
SUMMARY:Haircare Skills for Carers
URL:https://www.barnfield.ac.uk/whats-on/events/event/102-haircare-skills-f
 or-carers
END:VEVENT
END:VCALENDAR
